BEGIN:VCALENDAR
VERSION:2.0
PRODID:-//wp-events-plugin.com//7.2.3.1//EN
TZID:Europe/Zurich
X-WR-TIMEZONE:Europe/Zurich
BEGIN:VEVENT
UID:40@rrcteddybaeren.ch
DTSTART;TZID=Europe/Zurich:20260606T100000
DTEND;TZID=Europe/Zurich:20260606T200000
DTSTAMP:20251031T074101Z
URL:https://rrcteddybaeren.ch/termine/umzug-ev-auftritt-jugendfest-unterku
 lm/
SUMMARY:Umzug/ev. Auftritt Jugendfest Unterkulm
DESCRIPTION:öffentlich
ATTACH;FMTTYPE=image/jpeg:https://rrcteddybaeren.ch/wp-content/uploads/roc
 knrollclub_teddybaeren_unterkulm_termine_auftritte_06.png
CATEGORIES:Auftritte
END:VEVENT
BEGIN:VTIMEZONE
TZID:Europe/Zurich
X-LIC-LOCATION:Europe/Zurich
BEGIN:DAYLIGHT
DTSTART:20260329T030000
TZOFFSETFROM:+0100
TZOFFSETTO:+0200
TZNAME:CEST
END:DAYLIGHT
END:VTIMEZONE
END:VCALENDAR