BEGIN:VCALENDAR
VERSION:2.0
PRODID:-//wp-events-plugin.com//7.2.3.1//EN
TZID:Europe/Zurich
X-WR-TIMEZONE:Europe/Zurich
BEGIN:VEVENT
UID:39@rrcteddybaeren.ch
DTSTART;TZID=Europe/Zurich:20260424T190000
DTEND;TZID=Europe/Zurich:20260424T230000
DTSTAMP:20251029T161239Z
URL:https://rrcteddybaeren.ch/termine/gv-rrc-teddybaeren-3/
SUMMARY:GV RRC Teddybären
DESCRIPTION:clubintern
ATTACH;FMTTYPE=image/jpeg:https://rrcteddybaeren.ch/wp-content/uploads/roc
 knrollclub_teddybaeren_unterkulm_termine_events_gv_2.png
CATEGORIES:Club-Events
END:VEVENT
BEGIN:VTIMEZONE
TZID:Europe/Zurich
X-LIC-LOCATION:Europe/Zurich
BEGIN:DAYLIGHT
DTSTART:20260329T030000
TZOFFSETFROM:+0100
TZOFFSETTO:+0200
TZNAME:CEST
END:DAYLIGHT
END:VTIMEZONE
END:VCALENDAR